BEGIN:VCALENDAR
VERSION:2.0
PRODID:-//WIR network Graubünden-Südostschweiz//NONSGML kigkonsult.se iCalc
 reator 2.16.12//
METHOD:PUBLISH
X-MS-OLK-FORCEINSPECTOROPEN:TRUE
BEGIN:VEVENT
UID:20260423T104058CEST-2061oW7u1f@WIR network Graubünden-Südostschweiz
DTSTAMP:20260423T084058Z
DESCRIPTION:\n\n‌\n\n \n\n\n‌\n\nFlussfahrt Basel-Amsterdam-Basel 9 Tage\n
 \n\n	\n		\n			Abfahrt\n			02.Mai 2025 in Basel\n		\n		\n			Ort               \n			Flussreise 
 nach Amsterdam\n		\n		\n			Datum/Zeit\n			02.-10.05.2025\n		\n		\n			 \n			 \n		\n	\n\n\n\n\n9-tä
 gige Flussreise vom 2.-10.Mai 2025\n80% WIR Anteil\nBasel-Amsterdam-Basel
 \nFrühbucher-Anmeldeschluss 15.10.2024 (Gratis-Ausflugspaket)\n\n\n	Details
  entnehmen Sie bitte dem Flyer\n	Um Irrtümer zu vermeiden: Buchung direkt b
 ei Walter Sonderer\, 079 207 81 26\, wsonderer@wironlinemagazin.ch\n\n\nAn
 meldung nur direkt möglich\, keine Anmeldung über dieses Portal\n\nGrosszü
 gige Unterstützung durch:\nWIR network Graubünden\nWIR network Ostschweiz
 \nWIR network Aargau\nWIR network Zürich\nWIR network Schaffhausen\n \n
DTSTART:20250502T000000
DTEND:20250510T235900
LOCATION:Amsterdam
ORGANIZER:MAILTO:WIR network Graubünden-Südostschweiz <info@wirnetwork-gr.c
 h>
SUMMARY:9-tägige Flussfahrt nach Amsterdam
END:VEVENT
END:VCALENDAR
